BEGIN:VCALENDAR
VERSION:2.0
PRODID:-//wp-events-plugin.com//7.2.3.1//EN
TZID:Europe/Berlin
X-WR-TIMEZONE:Europe/Berlin
BEGIN:VEVENT
UID:54@lindathomas.org
DTSTART;TZID=Europe/Berlin:20240626T000000
DTEND;TZID=Europe/Berlin:20240630T000000
DTSTAMP:20240301T142827Z
URL:https://lindathomas.org/en/events/anthroposophical-conference-malaysia
 -2024-towards-individual-development-and-community/
SUMMARY:Anthroposophical Conference Malaysia 2024 - Towards Individual Deve
 lopment and Community
DESCRIPTION:In our present time\, which is often characterised by wars and 
 hardship\, every individual who privately and professionally stands up for
  human values and contributes to social communities counts. Where there is
  conflict and hostility\, painful processes of dehumanisation begin. Howev
 er\, humanisation and the capacity for peace begins where people learn to 
 meet in mutual respect and understanding\, to learn from differences and t
 o work together towards constructive goals for the future. This conference
  would like to bring forth individual development and community wellbeing 
 through these constructive future perspectives. 
ATTACH;FMTTYPE=image/jpeg:https://lindathomas.org/wp-content/uploads/2024/
 03/Kongshi-3.jpeg
LOCATION:Kongshi Co-op\,  2941\, Jalan Puchong\, Off Jalan Klang Lama\, 582
 00 \, Kuala Lumpur\, 58200\, Malaysia
X-APPLE-STRUCTURED-LOCATION;VALUE=URI;X-ADDRESS= 2941\, Jalan Puchong\, Off
  Jalan Klang Lama\, 58200 \, Kuala Lumpur\, 58200\, Malaysia;X-APPLE-RADIU
 S=100;X-TITLE=Kongshi Co-op:geo:0,0
END:VEVENT
BEGIN:VTIMEZONE
TZID:Europe/Berlin
X-LIC-LOCATION:Europe/Berlin
BEGIN:DAYLIGHT
DTSTART:20240331T030000
TZOFFSETFROM:+0100
TZOFFSETTO:+0200
TZNAME:CEST
END:DAYLIGHT
END:VTIMEZONE
END:VCALENDAR