BEGIN:VCALENDAR
VERSION:2.0
PRODID:-//wp-events-plugin.com//7.2.3.1//EN
TZID:Europe/Berlin
X-WR-TIMEZONE:Europe/Berlin
BEGIN:VEVENT
UID:48@lindathomas.org
DTSTART;TZID=Europe/Berlin:20240504T080000
DTEND;TZID=Europe/Berlin:20240505T160000
DTSTAMP:20240301T140250Z
URL:https://lindathomas.org/events/cleaning-and-caring-as-a-spiritual-acti
 vity/
SUMMARY:Cleaning and caring as a spiritual activity
DESCRIPTION:Caring for a space is always an extended care for human beings.
  The forces of love flow from our hearts directly through our arms into ou
 r hands\, and give us the power of transformation we so desperately need t
 oday. We not only remove dirt\, but we also charge all things we do\, with
  a breath of your own spirit\, thus creating space for what needs to enfol
 d. This is practical spirituality in everyday life.
ATTACH;FMTTYPE=image/jpeg:https://lindathomas.org/wp-content/uploads/2024/
 03/kongshi-2.jpeg
END:VEVENT
BEGIN:VTIMEZONE
TZID:Europe/Berlin
X-LIC-LOCATION:Europe/Berlin
BEGIN:DAYLIGHT
DTSTART:20240331T030000
TZOFFSETFROM:+0100
TZOFFSETTO:+0200
TZNAME:CEST
END:DAYLIGHT
END:VTIMEZONE
END:VCALENDAR