BEGIN:VCALENDAR
VERSION:2.0
PRODID:-//wp-events-plugin.com//7.2.3.1//EN
TZID:Europe/Berlin
X-WR-TIMEZONE:Europe/Berlin
BEGIN:VEVENT
UID:17@lindathomas.org
DTSTART;TZID=Europe/Berlin;VALUE=DATE:20231027
DTEND;TZID=Europe/Berlin;VALUE=DATE:20231029
DTSTAMP:20230809T113411Z
URL:https://lindathomas.org/events/es-war-einmal-und-es-wird-einmal-sein-d
 as-maerchen-und-seine-bilder-im-spiegel-der-zeit/
SUMMARY:"Es war einmal... und es wird einmal sein - Das Märchen und seine 
 Bilder im Spiegel der Zeit
DESCRIPTION:"Es war einmal... und es wird einmal sein - Das Märchen und se
 ine Bilder im Spiegel der Zeit"
ATTACH;FMTTYPE=image/jpeg:https://lindathomas.org/wp-content/uploads/2023/
 08/stuttgart-3.jpeg
CATEGORIES:Seminar
LOCATION:Waldorfkindergartenseminar und Freie Fachschule für Sozialpädago
 gik\, Heubergstraße 11\, Stuttgart\, 70188\, Deutschland
GEO:48.783221;9.200881
X-APPLE-STRUCTURED-LOCATION;VALUE=URI;X-ADDRESS=Heubergstraße 11\, Stuttga
 rt\, 70188\, Deutschland;X-APPLE-RADIUS=100;X-TITLE=Waldorfkindergartensem
 inar und Freie Fachschule für Sozialpädagogik:geo:48.783221,9.200881
END:VEVENT
BEGIN:VTIMEZONE
TZID:Europe/Berlin
X-LIC-LOCATION:Europe/Berlin
BEGIN:DAYLIGHT
DTSTART:20230326T030000
TZOFFSETFROM:+0100
TZOFFSETTO:+0200
TZNAME:CEST
END:DAYLIGHT
END:VTIMEZONE
END:VCALENDAR