BEGIN:VCALENDAR
VERSION:2.0
PRODID:-//wp-events-plugin.com//7.2.3.1//EN
TZID:Europe/Berlin
X-WR-TIMEZONE:Europe/Berlin
BEGIN:VEVENT
UID:45@lindathomas.org
DTSTART;TZID=Europe/Berlin:20240319T150000
DTEND;TZID=Europe/Berlin:20240319T163000
DTSTAMP:20240301T143552Z
URL:https://lindathomas.org/events/fruehjahrsputz-raum-schaffen-fuer-das-n
 eue/
SUMMARY:Frühjahrsputz - Raum schaffen für das Neue
DESCRIPTION:Bewusstes Wahrnehmen hilft zu erkennen\, welche Pflege  wir se
 lbst brauchen\, die Räume in denen wir arbeiten und leben.  Aber auch di
 e sozialen Räume\, wie wir den Raum des Anderen in der Begegnung\, in der
  Gemeinschaft\, respektieren können.
ATTACH;FMTTYPE=image/jpeg:https://lindathomas.org/wp-content/uploads/2024/
 03/wala-3.jpeg
CATEGORIES:Interne Weiterbildung
LOCATION:WALA Heilmittel GmbH\, Dorfstrasse 1\, Bad Boll/Eckwalden\, 73087\
 , Deutschland
X-APPLE-STRUCTURED-LOCATION;VALUE=URI;X-ADDRESS=Dorfstrasse 1\, Bad Boll/Ec
 kwalden\, 73087\, Deutschland;X-APPLE-RADIUS=100;X-TITLE=WALA Heilmittel G
 mbH:geo:0,0
END:VEVENT
BEGIN:VTIMEZONE
TZID:Europe/Berlin
X-LIC-LOCATION:Europe/Berlin
BEGIN:STANDARD
DTSTART:20231029T020000
TZOFFSETFROM:+0200
TZOFFSETTO:+0100
TZNAME:CET
END:STANDARD
END:VTIMEZONE
END:VCALENDAR