BEGIN:VCALENDAR
VERSION:2.0
PRODID:-//wp-events-plugin.com//7.2.3.1//EN
TZID:Europe/Berlin
X-WR-TIMEZONE:Europe/Berlin
BEGIN:VEVENT
UID:13@lindathomas.org
DTSTART;TZID=Europe/Berlin:20230920T193000
DTEND;TZID=Europe/Berlin:20230920T210000
DTSTAMP:20230904T144616Z
URL:https://lindathomas.org/events/ordnung-schaffen-reinigen-verwandeln/
SUMMARY:Ordnung schaffen – Reinigen – Verwandeln
DESCRIPTION:Ohne Ordnung zu schaffen\, können wir nicht reinigen. Währe
 nd der Reinigung verbindet sich die menschliche Fürsorge bedingungslos m
 it der Materie und verwandelt sie.
ATTACH;FMTTYPE=image/jpeg:https://lindathomas.org/wp-content/uploads/2023/
 08/haus006.jpeg
CATEGORIES:Vortrag mit Aussprache
LOCATION:Casa Andrea Cristoforo\,  Str. Collinetta 25\, \, Ascona\, Ticino\
 , 6612 \, Schweiz
GEO:46.15536;8.760552
X-APPLE-STRUCTURED-LOCATION;VALUE=URI;X-ADDRESS= Str. Collinetta 25\, \, As
 cona\, Ticino\, 6612 \, Schweiz;X-APPLE-RADIUS=100;X-TITLE=Casa Andrea Cri
 stoforo:geo:46.15536,8.760552
END:VEVENT
BEGIN:VTIMEZONE
TZID:Europe/Berlin
X-LIC-LOCATION:Europe/Berlin
BEGIN:DAYLIGHT
DTSTART:20230326T030000
TZOFFSETFROM:+0100
TZOFFSETTO:+0200
TZNAME:CEST
END:DAYLIGHT
END:VTIMEZONE
END:VCALENDAR