BEGIN:VCALENDAR
VERSION:2.0
PRODID:-//wp-events-plugin.com//7.2.3.1//EN
TZID:Europe/Berlin
X-WR-TIMEZONE:Europe/Berlin
BEGIN:VEVENT
UID:57@lindathomas.org
DTSTART;TZID=Europe/Berlin:20240924T080000
DTEND;TZID=Europe/Berlin:20240924T130000
DTSTAMP:20240301T144317Z
URL:https://lindathomas.org/events/putzen-und-pflegen-in-der-gemeinschaft/
SUMMARY:Putzen und Pflegen in der Gemeinschaft
DESCRIPTION:Eine gute und gemeinsame Hauspflege bereichert das Zusammenlebe
 n in Wohngemeinschaften
ATTACH;FMTTYPE=image/jpeg:https://lindathomas.org/wp-content/uploads/2023/
 08/Jugend-Seminar_1_Internationaler-Gestaltungsraum_Finanzierung_Jugendsem
 inar-Stuttgart_Copyright_S.Knust_2-1-1.jpg
LOCATION:Freie Jugendseminar\, Stuttgart\, Ameisenbergstr. 44\, Stuttgart\,
  70188\, Deutschland
GEO:48.783248;9.198432
X-APPLE-STRUCTURED-LOCATION;VALUE=URI;X-ADDRESS=Ameisenbergstr. 44\, Stuttg
 art\, 70188\, Deutschland;X-APPLE-RADIUS=100;X-TITLE=Freie Jugendseminar\,
  Stuttgart:geo:48.783248,9.198432
END:VEVENT
BEGIN:VTIMEZONE
TZID:Europe/Berlin
X-LIC-LOCATION:Europe/Berlin
BEGIN:DAYLIGHT
DTSTART:20240331T030000
TZOFFSETFROM:+0100
TZOFFSETTO:+0200
TZNAME:CEST
END:DAYLIGHT
END:VTIMEZONE
END:VCALENDAR